BEGIN:VCALENDAR
VERSION:2.0
PRODID:-//My First Place - ECPv5.8.2//NONSGML v1.0//EN
CALSCALE:GREGORIAN
METHOD:PUBLISH
X-WR-CALNAME:My First Place
X-ORIGINAL-URL:http://myfirstplace.com
X-WR-CALDESC:Events for My First Place
BEGIN:VTIMEZONE
TZID:America/Los_Angeles
BEGIN:DAYLIGHT
TZOFFSETFROM:-0800
TZOFFSETTO:-0700
TZNAME:PDT
DTSTART:20220313T100000
END:DAYLIGHT
BEGIN:STANDARD
TZOFFSETFROM:-0700
TZOFFSETTO:-0800
TZNAME:PST
DTSTART:20221106T090000
END:STANDARD
END:VTIMEZONE
BEGIN:VEVENT
DTSTART;TZID=America/Los_Angeles:20221207T181000
DTEND;TZID=America/Los_Angeles:20221207T190000
DTSTAMP:20260422T121301
CREATED:20220924T184002Z
LAST-MODIFIED:20221215T215857Z
UID:1301-1670436600-1670439600@myfirstplace.com
SUMMARY:Preschool Tour
DESCRIPTION:We welcome all interested families to visit our school to get a feeling for our community. Please note that a tour is required before submitting an application. This is to make sure that each family feels that our school would be a good fit for their child. \nAll relevant information will be provided at the tour\, including handbooks\, tuition fees and additional application materials. \nIf you are experiencing any flu-like or COVID-19 symptoms\, please do not come to the tour. Call us and we’ll be happy to reschedule your appointment. \nWe look forward to meeting you! \n*Child must be age 2 or older to enroll in the preschool program. For children under 2\, please register for one of the infant program tours.
URL:http://myfirstplace.com/events/preschool-tour-2/
LOCATION:My First Place – 22nd St. Campus\, 1931 22nd Street\, Santa Monica\, CA\, 90404\, United States
CATEGORIES:Preschool Program Tour
ORGANIZER;CN="My%20First%20Place%20-%2022nd%20St.%20Campus":MAILTO:hello22@myfirstplace.com
END:VEVENT
END:VCALENDAR