BEGIN:VCALENDAR
VERSION:2.0
PRODID:-//My First Place - ECPv5.8.2//NONSGML v1.0//EN
CALSCALE:GREGORIAN
METHOD:PUBLISH
X-WR-CALNAME:My First Place
X-ORIGINAL-URL:https://myfirstplace.com
X-WR-CALDESC:Events for My First Place
BEGIN:VTIMEZONE
TZID:America/Los_Angeles
BEGIN:DAYLIGHT
TZOFFSETFROM:-0800
TZOFFSETTO:-0700
TZNAME:PDT
DTSTART:20230312T100000
END:DAYLIGHT
BEGIN:STANDARD
TZOFFSETFROM:-0700
TZOFFSETTO:-0800
TZNAME:PST
DTSTART:20231105T090000
END:STANDARD
END:VTIMEZONE
BEGIN:VEVENT
DTSTART;TZID=America/Los_Angeles:20230608T181000
DTEND;TZID=America/Los_Angeles:20230608T190000
DTSTAMP:20260421T102636
CREATED:20230605T181227Z
LAST-MODIFIED:20230605T181227Z
UID:1454-1686247800-1686250800@myfirstplace.com
SUMMARY:Preschool Tour - 22nd St. Campus
DESCRIPTION:We welcome all interested families to visit our school to get a feeling for our community. Please note that we strongly recommend touring the school before submitting an application (although not required). This is to make sure that each family feels that our school would be a good fit for your family. \nA link to download all relevant materials will be provided in a confirmation email\, including tuition fees\, calendars and additional informational material. \nIf you are experiencing any flu-like or COVID-19 symptoms\, please do not come to the tour. Call us and we’ll be happy to reschedule your appointment. \nWe look forward to meeting you! \n\n\n\n\n\n\n \n*Child must be age 2 or older to enroll in the preschool program. For children under 2\, please register for one of the infant program tours.
URL:https://myfirstplace.com/events/preschool-tour-22nd-st-campus/
LOCATION:My First Place – 22nd St. Campus\, 1931 22nd Street\, Santa Monica\, CA\, 90404\, United States
CATEGORIES:Preschool Program Tour
ORGANIZER;CN="My%20First%20Place%20-%2022nd%20St.%20Campus":MAILTO:hello22@myfirstplace.com
END:VEVENT
END:VCALENDAR